BEGIN:VCALENDAR
VERSION:2.0
PRODID:-//SSD - ECPv6.15.20//NONSGML v1.0//EN
CALSCALE:GREGORIAN
METHOD:PUBLISH
X-WR-CALNAME:SSD
X-ORIGINAL-URL:https://huskynet.de
X-WR-CALDESC:Veranstaltungen für SSD
REFRESH-INTERVAL;VALUE=DURATION:PT1H
X-Robots-Tag:noindex
X-PUBLISHED-TTL:PT1H
BEGIN:VTIMEZONE
TZID:UTC
BEGIN:STANDARD
TZOFFSETFROM:+0000
TZOFFSETTO:+0000
TZNAME:UTC
DTSTART:20240101T000000
END:STANDARD
END:VTIMEZONE
BEGIN:VEVENT
DTSTART;VALUE=DATE:20260314
DTEND;VALUE=DATE:20260316
DTSTAMP:20260419T123010
CREATED:20250722T150042Z
LAST-MODIFIED:20250722T150239Z
UID:832-1773446400-1773619199@huskynet.de
SUMMARY:Apenburg Schlittenhundewagenrennen
DESCRIPTION:6. Internationales Schlittenhundewagenrennen\nin Apenburg\nam 14./15. März 2026
URL:https://huskynet.de/event/apenburg-schlittenhundewagenrennen/
LOCATION:Apenburg\, 52°42'56"N 11°11'20"E\, Apenburg\, Sachsen Anhalt\, 38486\, Germany
CATEGORIES:Schlittenhundewagenrennen
ATTACH;FMTTYPE=image/png:https://huskynet.de/wp-content/uploads/2025/07/logo.png
END:VEVENT
BEGIN:VEVENT
DTSTART;VALUE=DATE:20260117
DTEND;VALUE=DATE:20260119
DTSTAMP:20260419T123010
CREATED:20250721T065016Z
LAST-MODIFIED:20250721T065016Z
UID:759-1768608000-1768780799@huskynet.de
SUMMARY:Werfenweng 2026
DESCRIPTION:27. Schlittenhunderennen in Werfenweng
URL:https://huskynet.de/event/werfenweng-2026/
LOCATION:Werfenweng 2026\, Mayerhoferweg 15\, Werfenweng\, Salzburger Land\, 5453\, Austria
CATEGORIES:Schlittenhunderennen
ATTACH;FMTTYPE=image/jpeg:https://huskynet.de/wp-content/uploads/2025/06/1010_1.jpg
END:VEVENT
BEGIN:VEVENT
DTSTART;VALUE=DATE:20260103
DTEND;VALUE=DATE:20260105
DTSTAMP:20260419T123010
CREATED:20250722T190915Z
LAST-MODIFIED:20250722T190915Z
UID:837-1767398400-1767571199@huskynet.de
SUMMARY:Burg Schlittenhundewagenrennen
DESCRIPTION:7. Internationales Schlittenhundewagenrennen Burg
URL:https://huskynet.de/event/burg-schlittenhundewagenrennen/
LOCATION:Burg\, Forststraße\, Burg\, Sachsen Anhalt\, 39288\, Germany
CATEGORIES:Schlittenhundewagenrennen
ATTACH;FMTTYPE=image/png:https://huskynet.de/wp-content/uploads/2025/07/logo.png
END:VEVENT
BEGIN:VEVENT
DTSTART;VALUE=DATE:20251113
DTEND;VALUE=DATE:20251116
DTSTAMP:20260419T123010
CREATED:20250722T130004Z
LAST-MODIFIED:20250808T054814Z
UID:820-1762992000-1763251199@huskynet.de
SUMMARY:FICTC Cart WM Apenburg
DESCRIPTION:FISTC Cart WM\nin Apenburg\nam 13./15. November 2025\nDa für die Teilnahme an der WM/EM eine Nominierung nötig ist.\nMeldungen und Infos über    sportwart@huskynet.de\n\nStartgeld 100 Euro Doppelstart 50 Euro keine Rückerstattung\nVorabüberweisung auf das SSD Konto\nsonst keine Aufnahme in die Starterliste . \nSchlittenhundesport Deutschland e.V\nDE37722901000000557986
URL:https://huskynet.de/event/apenburg-wagenrennen/
LOCATION:Apenburg\, 52°42'56"N 11°11'20"E\, Apenburg\, Sachsen Anhalt\, 38486\, Germany
CATEGORIES:Schlittenhundewagenrennen
ATTACH;FMTTYPE=image/jpeg:https://huskynet.de/wp-content/uploads/2025/07/IMG-20250722-WA0001.jpg
END:VEVENT
END:VCALENDAR